BEGIN:VCALENDAR
VERSION:2.0
PRODID:-//SAME SAME BUT DIFFERENT - ECPv5.10.1//NONSGML v1.0//EN
CALSCALE:GREGORIAN
METHOD:PUBLISH
X-WR-CALNAME:SAME SAME BUT DIFFERENT
X-ORIGINAL-URL:https://www.samesamebutdifferent.at
X-WR-CALDESC:Veranstaltungen für SAME SAME BUT DIFFERENT
BEGIN:VTIMEZONE
TZID:Europe/Vienna
BEGIN:DAYLIGHT
TZOFFSETFROM:+0100
TZOFFSETTO:+0200
TZNAME:CEST
DTSTART:20190331T010000
END:DAYLIGHT
BEGIN:STANDARD
TZOFFSETFROM:+0200
TZOFFSETTO:+0100
TZNAME:CET
DTSTART:20191027T010000
END:STANDARD
END:VTIMEZONE
BEGIN:VEVENT
DTSTART;TZID=Europe/Vienna:20190416T190000
DTEND;TZID=Europe/Vienna:20190416T203000
DTSTAMP:20260421T054051
CREATED:20190405T204154Z
LAST-MODIFIED:20190405T204154Z
UID:932-1555441200-1555446600@www.samesamebutdifferent.at
SUMMARY:Ringana Fresh Date
DESCRIPTION:Gesund und fit durch den Frühling mit Frischeprodukten aus Österreich\nSie suchen in Österreich hergestellte\, frische\, vegane und tierversuchsfreie Produkte? Dann sollten Sie vorbeikommen! \nAblauf\nWir starten mit einem kurzen und knackigen Vortrag zu Ringana\, der Philosophie hinter den Produkten und was Frischekosmetik und -produkte eigentlich bedeutet. Und warum es so gut tut\, auf ausschließlich hochwertige Zutaten ohne künstliche Konservierungsstoffe zu setzen. \nDanach geht es auch schon weiter: Sie haben die Möglichkeit die Produkte auszuprobieren und zu verkosten! Sophie Kemp Spücher steht für Fragen zur Verfügung\, erklärt die Wirkweise der Produkte und gibt gerne Empfehlungen\, was für Sie besonders empfehlenswert ist. \nVergessen Sie nicht auf Ihre Begleitperson!  \n  \nJetzt anmelden!\n  \n\n  \nABOUT\nSophie Kemp Spücher\n\nDipl. Ernährungstrainerin\nRingana Frischepartnerin \n\n\nSophie Kemp Spücher ist 29 Jahre jung und Mama von zwei kleinen Töchtern. Während ihrer Ausbildung im Tourismus Management gab es einen familiären Schicksalsschlag\, der sie zum Umdenken in den Punkten Gesundheit und Ernährung bewegte. Daraufhin hat sie 2015 die Ausbildung zur Dipl. Ernährungstrainerin abgeschlossen. Seit dieser Zeit beschreitet sie einen nachhaltigen\, ethischen und bewussten Weg für ihre Familie und sich selbst. Als Frischepartnerin von Ringana – übrigens stolzer Preisträger des österreichischen Klimaschutzpreises und Klimabündnis Betrieb – möchte sie diese Lebenseinstellung in die Welt hinaustragen.
URL:https://www.samesamebutdifferent.at/veranstaltungen/ringana-fresh-date-16-04-19/
LOCATION:SAME SAME BUT DIFFERENT\, Possingergasse 59-61/9/3\, Wien\, 1160
ATTACH;FMTTYPE=image/jpeg:https://www.samesamebutdifferent.at/wp-content/uploads/2019/04/Ringana-Fresh-Date.jpg
END:VEVENT
END:VCALENDAR