BEGIN:VCALENDAR
VERSION:2.0
PRODID:-//SAME SAME BUT DIFFERENT - ECPv5.10.1//NONSGML v1.0//EN
CALSCALE:GREGORIAN
METHOD:PUBLISH
X-WR-CALNAME:SAME SAME BUT DIFFERENT
X-ORIGINAL-URL:https://www.samesamebutdifferent.at
X-WR-CALDESC:Veranstaltungen für SAME SAME BUT DIFFERENT
BEGIN:VTIMEZONE
TZID:Europe/Vienna
BEGIN:DAYLIGHT
TZOFFSETFROM:+0100
TZOFFSETTO:+0200
TZNAME:CEST
DTSTART:20190331T010000
END:DAYLIGHT
BEGIN:STANDARD
TZOFFSETFROM:+0200
TZOFFSETTO:+0100
TZNAME:CET
DTSTART:20191027T010000
END:STANDARD
END:VTIMEZONE
BEGIN:VEVENT
DTSTART;TZID=Europe/Vienna:20190409T190000
DTEND;TZID=Europe/Vienna:20190409T203000
DTSTAMP:20260421T071903
CREATED:20190318T204408Z
LAST-MODIFIED:20190318T204506Z
UID:921-1554836400-1554841800@www.samesamebutdifferent.at
SUMMARY:Mentaltraining: Erfolg beginnt im Kopf
DESCRIPTION:Wie wird man zum strahlenden Gewinner und Sieger? Sind diese Menschen schon als Sieger geboren oder haben Sie ihr Glück selbst in die Hand genommen? Gewinner vertrauen in sich selbst und können ihre Einstellung zu sich selbst und ihre Ziele so ausrichten\, dass sich diese förderlich auf ihr Leben auswirken. Das ist erlernbar und kann von jedem mit Übung und Training umgesetzt werden – auch von Ihnen! An diesem Abend schauen wir daher einmal genauer auf Ihre Einstellungen und Gedankenautobahnen: \n\nWie sollte ich denken\, um erfolgreich zu sein?\nWas sind meine Antreiber?\nWas hindert mich bis jetzt an der Erreichung meiner Ziele?\n\nWir freuen uns auf Ihre Erfahrungen und ganz persönlichen Fragen zum Thema Mentaltraining. Der Workshop wird daher teilnehmerInnenorientiert durchgeführt\, Ihre Wünschen und Anregungen lassen wir gerne einfließen. \n  \nJetzt anmelden!\n  \n\n  \nVORTRAGENDE\nChristiana Pachta\n\nAkademisch psychosoziale Beraterin i.A.u.S.\nMentaltrainerin\nExpertin für interkulturelle Beratung & Gewaltprävention und Unternehmensberatung NEU \n\n\nMiteinander stark sein! Vielen Menschen ist nicht bewusst\, welche Ressourcen sie in sich tragen. Um sich derer bewusst zu werden\, müssen sie müssen nur den Zugang zu ihren Talenten finden. Christiana Pachta unterstützt Menschen dabei\, ihr Leben aus eigener Kraft nach ihren eigenen Vorstellungen zu gestalten. \nSie arbeitet mit Einzelpersonen sowie Paaren\, Familien und Gruppen an deren Themen\, Konflikten und Dynamiken zur Erreichung ihrer Ziele. Es ist ihr ein Herzensanliegen\, dass jeder dieser Menschen sein Potential erkennt und nutzen kann. Für mehr Zufriedenheit und Lebensfreude.
URL:https://www.samesamebutdifferent.at/veranstaltungen/mentaltraining-erfolg-beginnt-im-kopf-09-04-19/
LOCATION:SAME SAME BUT DIFFERENT\, Possingergasse 59-61/9/3\, Wien\, 1160
ATTACH;FMTTYPE=image/jpeg:https://www.samesamebutdifferent.at/wp-content/uploads/2019/02/Erfolg-beginnt-im-Kopf.jpg
END:VEVENT
END:VCALENDAR