BEGIN:VCALENDAR
VERSION:2.0
PRODID:-//SAME SAME BUT DIFFERENT - ECPv5.10.1//NONSGML v1.0//EN
CALSCALE:GREGORIAN
METHOD:PUBLISH
X-WR-CALNAME:SAME SAME BUT DIFFERENT
X-ORIGINAL-URL:https://www.samesamebutdifferent.at
X-WR-CALDESC:Veranstaltungen für SAME SAME BUT DIFFERENT
BEGIN:VTIMEZONE
TZID:Europe/Vienna
BEGIN:DAYLIGHT
TZOFFSETFROM:+0100
TZOFFSETTO:+0200
TZNAME:CEST
DTSTART:20190331T010000
END:DAYLIGHT
BEGIN:STANDARD
TZOFFSETFROM:+0200
TZOFFSETTO:+0100
TZNAME:CET
DTSTART:20191027T010000
END:STANDARD
END:VTIMEZONE
BEGIN:VEVENT
DTSTART;TZID=Europe/Vienna:20190612T190000
DTEND;TZID=Europe/Vienna:20190612T203000
DTSTAMP:20260420T193726
CREATED:20190516T210803Z
LAST-MODIFIED:20190516T211024Z
UID:990-1560366000-1560371400@www.samesamebutdifferent.at
SUMMARY:Meditation "Heilung"
DESCRIPTION:An diesem Abend führe ich Sie in die Welt der Meditationen ein. Im Speziellen widmen wir uns dem Bereich der Heilung. Diese kann sehr unterschiedlich sein und jede Teilnehmerin und jeder Teilnehmer kann seine persönlichen Themen und Schmerzpunkte bearbeiten. \nAls Abschluss werden wir gemeinsam eine tiefenentspannende Übung machen\, damit Sie dem nächsten Tag mit  mehr Gelassenheit entgegensehen können. \nIch freue mich auf Ihr Kommen und auf einen gemeinsamen\, entspannten Abend! \n  \nJetzt anmelden!\n  \n\n  \nVORTRAGENDE\nChristiana Pachta\n\nAkademisch psychosoziale Beraterin i.A.u.S.\nMentaltrainerin\nExpertin für interkulturelle Beratung & Gewaltprävention und Unternehmensberatung NEU \n\n\nMiteinander stark sein! Vielen Menschen ist nicht bewusst\, welche Ressourcen sie in sich tragen. Um sich derer bewusst zu werden\, müssen sie müssen nur den Zugang zu ihren Talenten finden. Christiana Pachta unterstützt Menschen dabei\, ihr Leben aus eigener Kraft nach ihren eigenen Vorstellungen zu gestalten. \nSie arbeitet mit Einzelpersonen sowie Paaren\, Familien und Gruppen an deren Themen\, Konflikten und Dynamiken zur Erreichung ihrer Ziele. Es ist ihr ein Herzensanliegen\, dass jeder dieser Menschen sein Potential erkennt und nutzen kann. Für mehr Zufriedenheit und Lebensfreude.
URL:https://www.samesamebutdifferent.at/veranstaltungen/meditation-heilung-12-06-19/
LOCATION:SAME SAME BUT DIFFERENT\, Possingergasse 59-61/9/3\, Wien\, 1160
ATTACH;FMTTYPE=image/jpeg:https://www.samesamebutdifferent.at/wp-content/uploads/2019/05/Meditation-Heilung.jpg
END:VEVENT
END:VCALENDAR