BEGIN:VCALENDAR
VERSION:2.0
PRODID:-//SAME SAME BUT DIFFERENT - ECPv5.10.1//NONSGML v1.0//EN
CALSCALE:GREGORIAN
METHOD:PUBLISH
X-WR-CALNAME:SAME SAME BUT DIFFERENT
X-ORIGINAL-URL:https://www.samesamebutdifferent.at
X-WR-CALDESC:Veranstaltungen für SAME SAME BUT DIFFERENT
BEGIN:VTIMEZONE
TZID:Europe/Vienna
BEGIN:DAYLIGHT
TZOFFSETFROM:+0100
TZOFFSETTO:+0200
TZNAME:CEST
DTSTART:20190331T010000
END:DAYLIGHT
BEGIN:STANDARD
TZOFFSETFROM:+0200
TZOFFSETTO:+0100
TZNAME:CET
DTSTART:20191027T010000
END:STANDARD
END:VTIMEZONE
BEGIN:VEVENT
DTSTART;TZID=Europe/Vienna:20190508T190000
DTEND;TZID=Europe/Vienna:20190508T203000
DTSTAMP:20260420T231521
CREATED:20190409T150325Z
LAST-MODIFIED:20190409T150331Z
UID:943-1557342000-1557347400@www.samesamebutdifferent.at
SUMMARY:Gender Identity oder Was macht das Rosa-Hellblau-Denken mit uns und unseren Kindern?
DESCRIPTION:Wir kennen es doch alle…. Das Denken in klassischen Rollenbildern von Mann und Frau. Aber machen wir das bewusst oder sind es unsere Prägungen und unsere Sozialisierung\, die uns zu diesem Denken inspirieren? Christiana Pachta wird durch diesen Abend führen und mit unseren Gästen einen dialogischen Vortrag über das Thema Gender Identity gestalten. \n\nGender\nGendermarketing\nDie rosa-hellblau-Falle/ Gendersensible Erziehung\nUnconscious Bias und die Reproduktion traditioneller Rollenbilder\nTransgender\nAuswirkungen\ngeschlechtersensibles Sprechen\nAustausch und Reflexion eigener Lehr- / Erziehungspraxis\n\n  \nWir freuen uns sehr folgende Expert*innen zur Diskussionrunde gewonnen zu haben: \nMarek Wimberger (Experte für Geschlechterrollen und Kriminalbeamter) \nThomas Schachner (Experte für gesellschaftliche Rollenbilder) \nLara-Maria Nestyak (Sozialpädagogin und Mutter) \nLilian Klebow (Schauspielerin und Mutter) \nChristiana Pachta (Moderation) \nJetzt anmelden!\n 
URL:https://www.samesamebutdifferent.at/veranstaltungen/gender-identity-08-05-19/
LOCATION:SAME SAME BUT DIFFERENT\, Possingergasse 59-61/9/3\, Wien\, 1160
ATTACH;FMTTYPE=image/jpeg:https://www.samesamebutdifferent.at/wp-content/uploads/2019/04/Gender-Identity.jpg
END:VEVENT
END:VCALENDAR