BEGIN:VCALENDAR
VERSION:2.0
PRODID:-//SAME SAME BUT DIFFERENT - ECPv5.10.1//NONSGML v1.0//EN
CALSCALE:GREGORIAN
METHOD:PUBLISH
X-WR-CALNAME:SAME SAME BUT DIFFERENT
X-ORIGINAL-URL:https://www.samesamebutdifferent.at
X-WR-CALDESC:Veranstaltungen für SAME SAME BUT DIFFERENT
BEGIN:VTIMEZONE
TZID:Europe/Vienna
BEGIN:DAYLIGHT
TZOFFSETFROM:+0100
TZOFFSETTO:+0200
TZNAME:CEST
DTSTART:20190331T010000
END:DAYLIGHT
BEGIN:STANDARD
TZOFFSETFROM:+0200
TZOFFSETTO:+0100
TZNAME:CET
DTSTART:20191027T010000
END:STANDARD
END:VTIMEZONE
BEGIN:VEVENT
DTSTART;TZID=Europe/Vienna:20190423T190000
DTEND;TZID=Europe/Vienna:20190423T203000
DTSTAMP:20260421T041307
CREATED:20190318T200046Z
LAST-MODIFIED:20190318T200046Z
UID:874-1556046000-1556051400@www.samesamebutdifferent.at
SUMMARY:Entspannungsübungen: Einfach mal durchatmen
DESCRIPTION:Der Alltag im Beruf oder der Familie kann mitunter schon sehr herausfordernd sein\, viele Menschen fühlen häufig oder dauerhaft hohen Stress. Wäre es nicht herrlich\, manchmal einfach gedanklich abzutauchen und den  Ressourcentank wieder aufzufüllen? An diesem Abend dreht sich alles um das Thema Entspannung und Atmung und wie Sie schnell in einen entspannten Zustand kommen können. Wir werden eine Entspannungsübung durchführen und in eine Phantasiereise eintauchen. Zu diesem Thema wird es folgende Beiträge geben: \n\nWas ist Resilienz?\nAtme dich frei \nEntspannungtechniken\nPhantasiereise\n\nWir bitten Sie an diesem Abend in bequemer Kleidung zu kommen und eine Gymnastik- oder Yogamatte mitzunehmen. (Sollten Sie keine haben\, wenden Sie sich bitte an uns.) \nJetzt anmelden!\n  \n\n  \nWORKSHOP LEITERIN\nChristiana Pachta\n\nAkademisch psychosoziale Beraterin i.A.u.S.\nMentaltrainerin\nExpertin für interkulturelle Beratung & Gewaltprävention und Unternehmensberatung NEU \n\n\nMiteinander stark sein! Vielen Menschen ist nicht bewusst\, welche Ressourcen sie in sich tragen. Um sich derer bewusst zu werden\, müssen sie müssen nur den Zugang zu ihren Talenten finden. Christiana Pachta unterstützt Menschen dabei\, ihr Leben aus eigener Kraft nach ihren eigenen Vorstellungen zu gestalten. \nSie arbeitet mit Einzelpersonen sowie Paaren\, Familien und Gruppen an deren Themen\, Konflikten und Dynamiken zur Erreichung ihrer Ziele. Es ist ihr ein Herzensanliegen\, dass jeder dieser Menschen sein Potential erkennt und nutzen kann. Für mehr Zufriedenheit und Lebensfreude.
URL:https://www.samesamebutdifferent.at/veranstaltungen/entspannungsuebungen-einfach-mal-durchatmen/
LOCATION:SAME SAME BUT DIFFERENT\, Possingergasse 59-61/9/3\, Wien\, 1160
ATTACH;FMTTYPE=image/jpeg:https://www.samesamebutdifferent.at/wp-content/uploads/2019/03/Entspannungsuebungen-Workshop.jpg
END:VEVENT
END:VCALENDAR