BEGIN:VCALENDAR
VERSION:2.0
PRODID:-//SAME SAME BUT DIFFERENT - ECPv5.10.1//NONSGML v1.0//EN
CALSCALE:GREGORIAN
METHOD:PUBLISH
X-WR-CALNAME:SAME SAME BUT DIFFERENT
X-ORIGINAL-URL:https://www.samesamebutdifferent.at
X-WR-CALDESC:Veranstaltungen für SAME SAME BUT DIFFERENT
BEGIN:VTIMEZONE
TZID:Europe/Vienna
BEGIN:DAYLIGHT
TZOFFSETFROM:+0100
TZOFFSETTO:+0200
TZNAME:CEST
DTSTART:20190331T010000
END:DAYLIGHT
BEGIN:STANDARD
TZOFFSETFROM:+0200
TZOFFSETTO:+0100
TZNAME:CET
DTSTART:20191027T010000
END:STANDARD
END:VTIMEZONE
BEGIN:VEVENT
DTSTART;TZID=Europe/Vienna:20190626T190000
DTEND;TZID=Europe/Vienna:20190626T203000
DTSTAMP:20260420T162716
CREATED:20190528T161400Z
LAST-MODIFIED:20190528T161400Z
UID:997-1561575600-1561581000@www.samesamebutdifferent.at
SUMMARY:doTERRA – Die wunderbare und fantastische Welt der ätherischen Öle!
DESCRIPTION:Tauchen Sie mit uns ein in die faszinierende Welt der hochwertigen doTERRA Öle! \nDoTERRA stellt reine\, hochwirksame und qualitativ hochwertige Öle her. Engagement in Sachen Verantwortung\, Wirksamkeit und Genauigkeit sind die Basis für die Herstellung der besten ätherischen Öle. Das sind die Kriterien von doTERRA mit denen das Unternehmen natürliche Lösungen für alltägliche Probleme bietet und damit für eine bessere Gesundheit und Wohlbefinden beitragen kann. \n \nDas ist die Mission von doTERRA – ein erfülltes Leben mit reinen ätherischen Ölen! \nDurch diesen besonderen Abend führt uns die Expertin Claudia Wittmann. Frau Wittmann verfügt über  großes Wissen in diesem Bereich und teilt gerne ihre Erfahrungen mit uns. \nWir freuen uns auf Sie und einen wunderschönen gemeinsamen Abend! \n  \n  \n  \nJetzt anmelden!\n 
URL:https://www.samesamebutdifferent.at/veranstaltungen/doterra-aetherische-oele-26-06-19/
LOCATION:SAME SAME BUT DIFFERENT\, Possingergasse 59-61/9/3\, Wien\, 1160
ATTACH;FMTTYPE=image/jpeg:https://www.samesamebutdifferent.at/wp-content/uploads/2019/05/doterra.jpg
END:VEVENT
END:VCALENDAR