BEGIN:VCALENDAR
VERSION:2.0
PRODID:-//SAME SAME BUT DIFFERENT - ECPv5.10.1//NONSGML v1.0//EN
CALSCALE:GREGORIAN
METHOD:PUBLISH
X-WR-CALNAME:SAME SAME BUT DIFFERENT
X-ORIGINAL-URL:https://www.samesamebutdifferent.at
X-WR-CALDESC:Veranstaltungen für SAME SAME BUT DIFFERENT
BEGIN:VTIMEZONE
TZID:Europe/Vienna
BEGIN:DAYLIGHT
TZOFFSETFROM:+0100
TZOFFSETTO:+0200
TZNAME:CEST
DTSTART:20190331T010000
END:DAYLIGHT
BEGIN:STANDARD
TZOFFSETFROM:+0200
TZOFFSETTO:+0100
TZNAME:CET
DTSTART:20191027T010000
END:STANDARD
END:VTIMEZONE
BEGIN:VEVENT
DTSTART;TZID=Europe/Vienna:20190430T190000
DTEND;TZID=Europe/Vienna:20190430T203000
DTSTAMP:20260421T022935
CREATED:20190318T200044Z
LAST-MODIFIED:20190318T200044Z
UID:879-1556650800-1556656200@www.samesamebutdifferent.at
SUMMARY:Coaching: Fit für den Sommer!
DESCRIPTION:Kennt das nicht fast jede(r) von uns: Der Sommer steht vor der Tür und selbst steht man unglücklich vor dem Spiegel. Was braucht es\, damit eine Veränderung stattfinden kann? Wie kann ich abnehmen\, ohne zu hungern? Wie sehe ich mich selbst\, wie kann ich mich annehmen? \nDer Schwerpunkt des Abends liegt auf allem\, was in unserem „Backoffice“ so abläuft und uns unbewusst daran hindert abzunehmen: \n\nSelbstwert – Ich liebe mich\nKommunikation mit mir selbst\nFastenmodelle\nHerbalife\n\nDieser Abend findet mit Unterstützung von Herbalife Beraterinnen statt. Es wird auch die Möglichkeit geben\, verschiedene Herbalife Produkte zu verkosten. \nJetzt anmelden!\n  \n\n  \nWORKSHOP LEITERIN\nChristiana Pachta\n\nAkademisch psychosoziale Beraterin i.A.u.S.\nMentaltrainerin\nExpertin für interkulturelle Beratung & Gewaltprävention und Unternehmensberatung NEU \n\n\nMiteinander stark sein! Vielen Menschen ist nicht bewusst\, welche Ressourcen sie in sich tragen. Um sich derer bewusst zu werden\, müssen sie müssen nur den Zugang zu ihren Talenten finden. Christiana Pachta unterstützt Menschen dabei\, ihr Leben aus eigener Kraft nach ihren eigenen Vorstellungen zu gestalten. \nSie arbeitet mit Einzelpersonen sowie Paaren\, Familien und Gruppen an deren Themen\, Konflikten und Dynamiken zur Erreichung ihrer Ziele. Es ist ihr ein Herzensanliegen\, dass jeder dieser Menschen sein Potential erkennt und nutzen kann. Für mehr Zufriedenheit und Lebensfreude.
URL:https://www.samesamebutdifferent.at/veranstaltungen/coaching-fit-fuer-den-sommer/
LOCATION:SAME SAME BUT DIFFERENT\, Possingergasse 59-61/9/3\, Wien\, 1160
ATTACH;FMTTYPE=image/jpeg:https://www.samesamebutdifferent.at/wp-content/uploads/2019/03/Sommerfit.jpg
END:VEVENT
END:VCALENDAR