BEGIN:VCALENDAR
VERSION:2.0
PRODID:-//SAME SAME BUT DIFFERENT - ECPv5.10.1//NONSGML v1.0//EN
CALSCALE:GREGORIAN
METHOD:PUBLISH
X-WR-CALNAME:SAME SAME BUT DIFFERENT
X-ORIGINAL-URL:https://www.samesamebutdifferent.at
X-WR-CALDESC:Veranstaltungen für SAME SAME BUT DIFFERENT
BEGIN:VTIMEZONE
TZID:Europe/Vienna
BEGIN:DAYLIGHT
TZOFFSETFROM:+0100
TZOFFSETTO:+0200
TZNAME:CEST
DTSTART:20190331T010000
END:DAYLIGHT
BEGIN:STANDARD
TZOFFSETFROM:+0200
TZOFFSETTO:+0100
TZNAME:CET
DTSTART:20191027T010000
END:STANDARD
END:VTIMEZONE
BEGIN:VEVENT
DTSTART;TZID=Europe/Vienna:20190829T190000
DTEND;TZID=Europe/Vienna:20190829T213000
DTSTAMP:20260420T131129
CREATED:20190812T191907Z
LAST-MODIFIED:20190812T193025Z
UID:1030-1567105200-1567114200@www.samesamebutdifferent.at
SUMMARY:Buchpräsentation: Weingeschichten aus Friaul
DESCRIPTION:Es gibt Wein aus dem Friaul zum Verkosten und dazu ein paar Häppchen zum Beißen. \nAuf Ihr Erscheinen freuen sich Hannes Gans (Autor) und Eva Wrazdil (Fotos) sowie das Team von SAME SAME BUT DIFFERENT!
URL:https://www.samesamebutdifferent.at/veranstaltungen/buchpraesentation-weingeschichten-aus-friaul-29-08-19/
LOCATION:SAME SAME BUT DIFFERENT\, Possingergasse 59-61/9/3\, Wien\, 1160
ATTACH;FMTTYPE=image/jpeg:https://www.samesamebutdifferent.at/wp-content/uploads/2019/08/Weingeschichten-aus-Friaul.jpg
END:VEVENT
END:VCALENDAR